BEGIN:VCALENDAR
VERSION:2.0
PRODID:-//High Plains Raceway - ECPv6.12.0//NONSGML v1.0//EN
CALSCALE:GREGORIAN
METHOD:PUBLISH
X-WR-CALNAME:High Plains Raceway
X-ORIGINAL-URL:https://www.highplainsraceway.com
X-WR-CALDESC:Events for High Plains Raceway
REFRESH-INTERVAL;VALUE=DURATION:PT1H
X-Robots-Tag:noindex
X-PUBLISHED-TTL:PT1H
BEGIN:VTIMEZONE
TZID:America/Denver
BEGIN:DAYLIGHT
TZOFFSETFROM:-0700
TZOFFSETTO:-0600
TZNAME:MDT
DTSTART:20260308T090000
END:DAYLIGHT
BEGIN:STANDARD
TZOFFSETFROM:-0600
TZOFFSETTO:-0700
TZNAME:MST
DTSTART:20261101T080000
END:STANDARD
END:VTIMEZONE
BEGIN:VEVENT
DTSTART;TZID=America/Denver:20260816T180000
DTEND;TZID=America/Denver:20260816T180000
DTSTAMP:20260419T155828
CREATED:20251222T015148Z
LAST-MODIFIED:20251222T015148Z
UID:10001869-1786903200-1786903200@www.highplainsraceway.com
SUMMARY:Paddock Closed Sunday Night
DESCRIPTION:Gates will close at the conclusion of the day’s event.  No overnight use of the paddock/camping/RV/Carport areas will be allowed.
URL:https://www.highplainsraceway.com/event/paddock-closed-sunday-night-46/
LOCATION:High Plains Raceway\, 93301 US-36\, Deer Trail\, CO\, 80105\, United States
CATEGORIES:Overnight No
END:VEVENT
END:VCALENDAR