BEGIN:VCALENDAR
VERSION:2.0
PRODID:-//High Plains Raceway - ECPv6.12.0//NONSGML v1.0//EN
CALSCALE:GREGORIAN
METHOD:PUBLISH
X-ORIGINAL-URL:https://www.highplainsraceway.com
X-WR-CALDESC:Events for High Plains Raceway
REFRESH-INTERVAL;VALUE=DURATION:PT1H
X-Robots-Tag:noindex
X-PUBLISHED-TTL:PT1H
BEGIN:VTIMEZONE
TZID:America/Denver
BEGIN:DAYLIGHT
TZOFFSETFROM:-0700
TZOFFSETTO:-0600
TZNAME:MDT
DTSTART:20260308T090000
END:DAYLIGHT
BEGIN:STANDARD
TZOFFSETFROM:-0600
TZOFFSETTO:-0700
TZNAME:MST
DTSTART:20261101T080000
END:STANDARD
END:VTIMEZONE
BEGIN:VEVENT
DTSTART;TZID=America/Denver:20260626T180000
DTEND;TZID=America/Denver:20260626T180000
DTSTAMP:20260419T162750
CREATED:20251222T012542Z
LAST-MODIFIED:20251222T012542Z
UID:10001813-1782496800-1782496800@www.highplainsraceway.com
SUMMARY:Paddock Closed Friday Night
DESCRIPTION:Gates will close at the conclusion of the day’s event.  No overnight use of the paddock/camping/RV/Carport areas will be allowed.
URL:https://www.highplainsraceway.com/event/paddock-closed-friday-night-8/
LOCATION:High Plains Raceway\, 93301 US-36\, Deer Trail\, CO\, 80105\, United States
CATEGORIES:Overnight No
END:VEVENT
BEGIN:VEVENT
DTSTART;TZID=America/Denver:20260627T180000
DTEND;TZID=America/Denver:20260627T180000
DTSTAMP:20260419T162750
CREATED:20251222T012957Z
LAST-MODIFIED:20251222T012957Z
UID:10001820-1782583200-1782583200@www.highplainsraceway.com
SUMMARY:Paddock Closed Saturday Night
DESCRIPTION:Gates will close at the conclusion of the day’s event.  No overnight use of the paddock/camping/RV/Carport areas will be allowed.
URL:https://www.highplainsraceway.com/event/paddock-closed-saturday-night-15/
LOCATION:High Plains Raceway\, 93301 US-36\, Deer Trail\, CO\, 80105\, United States
CATEGORIES:Overnight No
END:VEVENT
BEGIN:VEVENT
DTSTART;TZID=America/Denver:20260628T180000
DTEND;TZID=America/Denver:20260628T180000
DTSTAMP:20260419T162750
CREATED:20251222T014934Z
LAST-MODIFIED:20251222T014934Z
UID:10001862-1782669600-1782669600@www.highplainsraceway.com
SUMMARY:Paddock Closed Sunday Night
DESCRIPTION:Gates will close at the conclusion of the day’s event.  No overnight use of the paddock/camping/RV/Carport areas will be allowed.
URL:https://www.highplainsraceway.com/event/paddock-closed-sunday-night-39/
LOCATION:High Plains Raceway\, 93301 US-36\, Deer Trail\, CO\, 80105\, United States
CATEGORIES:Overnight No
END:VEVENT
BEGIN:VEVENT
DTSTART;TZID=America/Denver:20260705T180000
DTEND;TZID=America/Denver:20260705T180000
DTSTAMP:20260419T162750
CREATED:20251222T014947Z
LAST-MODIFIED:20251222T014947Z
UID:10001863-1783274400-1783274400@www.highplainsraceway.com
SUMMARY:Paddock Closed Sunday Night
DESCRIPTION:Gates will close at the conclusion of the day’s event.  No overnight use of the paddock/camping/RV/Carport areas will be allowed.
URL:https://www.highplainsraceway.com/event/paddock-closed-sunday-night-40/
LOCATION:High Plains Raceway\, 93301 US-36\, Deer Trail\, CO\, 80105\, United States
CATEGORIES:Overnight No
END:VEVENT
BEGIN:VEVENT
DTSTART;TZID=America/Denver:20260709T180000
DTEND;TZID=America/Denver:20260709T180000
DTSTAMP:20260419T162750
CREATED:20251222T005444Z
LAST-MODIFIED:20251222T005444Z
UID:10001765-1783620000-1783620000@www.highplainsraceway.com
SUMMARY:Paddock Closed Thursday Night
DESCRIPTION:Gates will close at the conclusion of the day’s event.  No overnight use of the paddock/camping/RV/Carport areas will be allowed.
URL:https://www.highplainsraceway.com/event/paddock-closed-thursday-night-17/
LOCATION:High Plains Raceway\, 93301 US-36\, Deer Trail\, CO\, 80105\, United States
CATEGORIES:Overnight No
END:VEVENT
BEGIN:VEVENT
DTSTART;TZID=America/Denver:20260710T180000
DTEND;TZID=America/Denver:20260710T180000
DTSTAMP:20260419T162750
CREATED:20251222T012618Z
LAST-MODIFIED:20251222T012618Z
UID:10001814-1783706400-1783706400@www.highplainsraceway.com
SUMMARY:Paddock Closed Friday Night
DESCRIPTION:Gates will close at the conclusion of the day’s event.  No overnight use of the paddock/camping/RV/Carport areas will be allowed.
URL:https://www.highplainsraceway.com/event/paddock-closed-friday-night-9/
LOCATION:High Plains Raceway\, 93301 US-36\, Deer Trail\, CO\, 80105\, United States
CATEGORIES:Overnight No
END:VEVENT
BEGIN:VEVENT
DTSTART;TZID=America/Denver:20260711T180000
DTEND;TZID=America/Denver:20260711T180000
DTSTAMP:20260419T162750
CREATED:20251222T013009Z
LAST-MODIFIED:20251222T013009Z
UID:10001821-1783792800-1783792800@www.highplainsraceway.com
SUMMARY:Paddock Closed Saturday Night
DESCRIPTION:Gates will close at the conclusion of the day’s event.  No overnight use of the paddock/camping/RV/Carport areas will be allowed.
URL:https://www.highplainsraceway.com/event/paddock-closed-saturday-night-16/
LOCATION:High Plains Raceway\, 93301 US-36\, Deer Trail\, CO\, 80105\, United States
CATEGORIES:Overnight No
END:VEVENT
BEGIN:VEVENT
DTSTART;TZID=America/Denver:20260712T180000
DTEND;TZID=America/Denver:20260712T180000
DTSTAMP:20260419T162750
CREATED:20251222T014959Z
LAST-MODIFIED:20251222T014959Z
UID:10001864-1783879200-1783879200@www.highplainsraceway.com
SUMMARY:Paddock Closed Sunday Night
DESCRIPTION:Gates will close at the conclusion of the day’s event.  No overnight use of the paddock/camping/RV/Carport areas will be allowed.
URL:https://www.highplainsraceway.com/event/paddock-closed-sunday-night-41/
LOCATION:High Plains Raceway\, 93301 US-36\, Deer Trail\, CO\, 80105\, United States
CATEGORIES:Overnight No
END:VEVENT
BEGIN:VEVENT
DTSTART;TZID=America/Denver:20260716T180000
DTEND;TZID=America/Denver:20260716T180000
DTSTAMP:20260419T162750
CREATED:20251222T005520Z
LAST-MODIFIED:20251222T005520Z
UID:10001766-1784224800-1784224800@www.highplainsraceway.com
SUMMARY:Paddock Closed Thursday Night
DESCRIPTION:Gates will close at the conclusion of the day’s event.  No overnight use of the paddock/camping/RV/Carport areas will be allowed.
URL:https://www.highplainsraceway.com/event/paddock-closed-thursday-night-18/
LOCATION:High Plains Raceway\, 93301 US-36\, Deer Trail\, CO\, 80105\, United States
CATEGORIES:Overnight No
END:VEVENT
BEGIN:VEVENT
DTSTART;TZID=America/Denver:20260718T180000
DTEND;TZID=America/Denver:20260718T180000
DTSTAMP:20260419T162750
CREATED:20251222T013025Z
LAST-MODIFIED:20251222T013025Z
UID:10001822-1784397600-1784397600@www.highplainsraceway.com
SUMMARY:Paddock Closed Saturday Night
DESCRIPTION:Gates will close at the conclusion of the day’s event.  No overnight use of the paddock/camping/RV/Carport areas will be allowed.
URL:https://www.highplainsraceway.com/event/paddock-closed-saturday-night-17/
LOCATION:High Plains Raceway\, 93301 US-36\, Deer Trail\, CO\, 80105\, United States
CATEGORIES:Overnight No
END:VEVENT
BEGIN:VEVENT
DTSTART;TZID=America/Denver:20260719T180000
DTEND;TZID=America/Denver:20260719T180000
DTSTAMP:20260419T162750
CREATED:20251222T015013Z
LAST-MODIFIED:20251222T015013Z
UID:10001865-1784484000-1784484000@www.highplainsraceway.com
SUMMARY:Paddock Closed Sunday Night
DESCRIPTION:Gates will close at the conclusion of the day’s event.  No overnight use of the paddock/camping/RV/Carport areas will be allowed.
URL:https://www.highplainsraceway.com/event/paddock-closed-sunday-night-42/
LOCATION:High Plains Raceway\, 93301 US-36\, Deer Trail\, CO\, 80105\, United States
CATEGORIES:Overnight No
END:VEVENT
BEGIN:VEVENT
DTSTART;TZID=America/Denver:20260726T180000
DTEND;TZID=America/Denver:20260726T180000
DTSTAMP:20260419T162750
CREATED:20251222T015054Z
LAST-MODIFIED:20251222T015054Z
UID:10001866-1785088800-1785088800@www.highplainsraceway.com
SUMMARY:Paddock Closed Sunday Night
DESCRIPTION:Gates will close at the conclusion of the day’s event.  No overnight use of the paddock/camping/RV/Carport areas will be allowed.
URL:https://www.highplainsraceway.com/event/paddock-closed-sunday-night-43/
LOCATION:High Plains Raceway\, 93301 US-36\, Deer Trail\, CO\, 80105\, United States
CATEGORIES:Overnight No
END:VEVENT
BEGIN:VEVENT
DTSTART;TZID=America/Denver:20260802T180000
DTEND;TZID=America/Denver:20260802T180000
DTSTAMP:20260419T162750
CREATED:20251222T015113Z
LAST-MODIFIED:20251222T015113Z
UID:10001867-1785693600-1785693600@www.highplainsraceway.com
SUMMARY:Paddock Closed Sunday Night
DESCRIPTION:Gates will close at the conclusion of the day’s event.  No overnight use of the paddock/camping/RV/Carport areas will be allowed.
URL:https://www.highplainsraceway.com/event/paddock-closed-sunday-night-44/
LOCATION:High Plains Raceway\, 93301 US-36\, Deer Trail\, CO\, 80105\, United States
CATEGORIES:Overnight No
END:VEVENT
BEGIN:VEVENT
DTSTART;TZID=America/Denver:20260816T180000
DTEND;TZID=America/Denver:20260816T180000
DTSTAMP:20260419T162750
CREATED:20251222T015148Z
LAST-MODIFIED:20251222T015148Z
UID:10001869-1786903200-1786903200@www.highplainsraceway.com
SUMMARY:Paddock Closed Sunday Night
DESCRIPTION:Gates will close at the conclusion of the day’s event.  No overnight use of the paddock/camping/RV/Carport areas will be allowed.
URL:https://www.highplainsraceway.com/event/paddock-closed-sunday-night-46/
LOCATION:High Plains Raceway\, 93301 US-36\, Deer Trail\, CO\, 80105\, United States
CATEGORIES:Overnight No
END:VEVENT
BEGIN:VEVENT
DTSTART;TZID=America/Denver:20260823T180000
DTEND;TZID=America/Denver:20260823T180000
DTSTAMP:20260419T162750
CREATED:20251222T015201Z
LAST-MODIFIED:20251222T015201Z
UID:10001870-1787508000-1787508000@www.highplainsraceway.com
SUMMARY:Paddock Closed Sunday Night
DESCRIPTION:Gates will close at the conclusion of the day’s event.  No overnight use of the paddock/camping/RV/Carport areas will be allowed.
URL:https://www.highplainsraceway.com/event/paddock-closed-sunday-night-47/
LOCATION:High Plains Raceway\, 93301 US-36\, Deer Trail\, CO\, 80105\, United States
CATEGORIES:Overnight No
END:VEVENT
BEGIN:VEVENT
DTSTART;TZID=America/Denver:20260827T180000
DTEND;TZID=America/Denver:20260827T180000
DTSTAMP:20260419T162750
CREATED:20251222T005553Z
LAST-MODIFIED:20251222T005553Z
UID:10001768-1787853600-1787853600@www.highplainsraceway.com
SUMMARY:Paddock Closed Thursday Night
DESCRIPTION:Gates will close at the conclusion of the day’s event.  No overnight use of the paddock/camping/RV/Carport areas will be allowed.
URL:https://www.highplainsraceway.com/event/paddock-closed-thursday-night-20/
LOCATION:High Plains Raceway\, 93301 US-36\, Deer Trail\, CO\, 80105\, United States
CATEGORIES:Overnight No
END:VEVENT
BEGIN:VEVENT
DTSTART;TZID=America/Denver:20260830T180000
DTEND;TZID=America/Denver:20260830T180000
DTSTAMP:20260419T162750
CREATED:20251222T015213Z
LAST-MODIFIED:20251222T015213Z
UID:10001871-1788112800-1788112800@www.highplainsraceway.com
SUMMARY:Paddock Closed Sunday Night
DESCRIPTION:Gates will close at the conclusion of the day’s event.  No overnight use of the paddock/camping/RV/Carport areas will be allowed.
URL:https://www.highplainsraceway.com/event/paddock-closed-sunday-night-48/
LOCATION:High Plains Raceway\, 93301 US-36\, Deer Trail\, CO\, 80105\, United States
CATEGORIES:Overnight No
END:VEVENT
BEGIN:VEVENT
DTSTART;TZID=America/Denver:20260903T180000
DTEND;TZID=America/Denver:20260903T180000
DTSTAMP:20260419T162750
CREATED:20251222T005606Z
LAST-MODIFIED:20251222T005606Z
UID:10001769-1788458400-1788458400@www.highplainsraceway.com
SUMMARY:Paddock Closed Thursday Night
DESCRIPTION:Gates will close at the conclusion of the day’s event.  No overnight use of the paddock/camping/RV/Carport areas will be allowed.
URL:https://www.highplainsraceway.com/event/paddock-closed-thursday-night-21/
LOCATION:High Plains Raceway\, 93301 US-36\, Deer Trail\, CO\, 80105\, United States
CATEGORIES:Overnight No
END:VEVENT
BEGIN:VEVENT
DTSTART;TZID=America/Denver:20260913T180000
DTEND;TZID=America/Denver:20260913T180000
DTSTAMP:20260419T162750
CREATED:20251222T015827Z
LAST-MODIFIED:20251222T015827Z
UID:10001873-1789322400-1789322400@www.highplainsraceway.com
SUMMARY:Paddock Closed Sunday Night
DESCRIPTION:Gates will close at the conclusion of the day’s event.  No overnight use of the paddock/camping/RV/Carport areas will be allowed.
URL:https://www.highplainsraceway.com/event/paddock-closed-sunday-night-50/
LOCATION:High Plains Raceway\, 93301 US-36\, Deer Trail\, CO\, 80105\, United States
CATEGORIES:Overnight No
END:VEVENT
BEGIN:VEVENT
DTSTART;TZID=America/Denver:20260920T180000
DTEND;TZID=America/Denver:20260920T180000
DTSTAMP:20260419T162750
CREATED:20251222T015839Z
LAST-MODIFIED:20251222T015839Z
UID:10001874-1789927200-1789927200@www.highplainsraceway.com
SUMMARY:Paddock Closed Sunday Night
DESCRIPTION:Gates will close at the conclusion of the day’s event.  No overnight use of the paddock/camping/RV/Carport areas will be allowed.
URL:https://www.highplainsraceway.com/event/paddock-closed-sunday-night-51/
LOCATION:High Plains Raceway\, 93301 US-36\, Deer Trail\, CO\, 80105\, United States
CATEGORIES:Overnight No
END:VEVENT
BEGIN:VEVENT
DTSTART;TZID=America/Denver:20260927T180000
DTEND;TZID=America/Denver:20260927T180000
DTSTAMP:20260419T162750
CREATED:20251222T020136Z
LAST-MODIFIED:20251222T020136Z
UID:10001880-1790532000-1790532000@www.highplainsraceway.com
SUMMARY:Paddock Closed Sunday Night
DESCRIPTION:Gates will close at the conclusion of the day’s event.  No overnight use of the paddock/camping/RV/Carport areas will be allowed.
URL:https://www.highplainsraceway.com/event/paddock-closed-sunday-night-57/
LOCATION:High Plains Raceway\, 93301 US-36\, Deer Trail\, CO\, 80105\, United States
CATEGORIES:Overnight No
END:VEVENT
BEGIN:VEVENT
DTSTART;TZID=America/Denver:20261001T180000
DTEND;TZID=America/Denver:20261001T180000
DTSTAMP:20260419T162750
CREATED:20251222T005618Z
LAST-MODIFIED:20251222T005618Z
UID:10001770-1790877600-1790877600@www.highplainsraceway.com
SUMMARY:Paddock Closed Thursday Night
DESCRIPTION:Gates will close at the conclusion of the day’s event.  No overnight use of the paddock/camping/RV/Carport areas will be allowed.
URL:https://www.highplainsraceway.com/event/paddock-closed-thursday-night-22/
LOCATION:High Plains Raceway\, 93301 US-36\, Deer Trail\, CO\, 80105\, United States
CATEGORIES:Overnight No
END:VEVENT
BEGIN:VEVENT
DTSTART;TZID=America/Denver:20261003T180000
DTEND;TZID=America/Denver:20261003T180000
DTSTAMP:20260419T162750
CREATED:20251222T013044Z
LAST-MODIFIED:20251222T013044Z
UID:10001823-1791050400-1791050400@www.highplainsraceway.com
SUMMARY:Paddock Closed Saturday Night
DESCRIPTION:Gates will close at the conclusion of the day’s event.  No overnight use of the paddock/camping/RV/Carport areas will be allowed.
URL:https://www.highplainsraceway.com/event/paddock-closed-saturday-night-18/
LOCATION:High Plains Raceway\, 93301 US-36\, Deer Trail\, CO\, 80105\, United States
CATEGORIES:Overnight No
END:VEVENT
BEGIN:VEVENT
DTSTART;TZID=America/Denver:20261004T180000
DTEND;TZID=America/Denver:20261004T180000
DTSTAMP:20260419T162750
CREATED:20251222T015926Z
LAST-MODIFIED:20251222T015926Z
UID:10001875-1791136800-1791136800@www.highplainsraceway.com
SUMMARY:Paddock Closed Sunday Night
DESCRIPTION:Gates will close at the conclusion of the day’s event.  No overnight use of the paddock/camping/RV/Carport areas will be allowed.
URL:https://www.highplainsraceway.com/event/paddock-closed-sunday-night-52/
LOCATION:High Plains Raceway\, 93301 US-36\, Deer Trail\, CO\, 80105\, United States
CATEGORIES:Overnight No
END:VEVENT
BEGIN:VEVENT
DTSTART;TZID=America/Denver:20261011T180000
DTEND;TZID=America/Denver:20261011T180000
DTSTAMP:20260419T162750
CREATED:20251222T015937Z
LAST-MODIFIED:20251222T015937Z
UID:10001876-1791741600-1791741600@www.highplainsraceway.com
SUMMARY:Paddock Closed Sunday Night
DESCRIPTION:Gates will close at the conclusion of the day’s event.  No overnight use of the paddock/camping/RV/Carport areas will be allowed.
URL:https://www.highplainsraceway.com/event/paddock-closed-sunday-night-53/
LOCATION:High Plains Raceway\, 93301 US-36\, Deer Trail\, CO\, 80105\, United States
CATEGORIES:Overnight No
END:VEVENT
BEGIN:VEVENT
DTSTART;TZID=America/Denver:20261015T180000
DTEND;TZID=America/Denver:20261015T180000
DTSTAMP:20260419T162750
CREATED:20251222T005631Z
LAST-MODIFIED:20251222T005631Z
UID:10001771-1792087200-1792087200@www.highplainsraceway.com
SUMMARY:Paddock Closed Thursday Night
DESCRIPTION:Gates will close at the conclusion of the day’s event.  No overnight use of the paddock/camping/RV/Carport areas will be allowed.
URL:https://www.highplainsraceway.com/event/paddock-closed-thursday-night-23/
LOCATION:High Plains Raceway\, 93301 US-36\, Deer Trail\, CO\, 80105\, United States
CATEGORIES:Overnight No
END:VEVENT
BEGIN:VEVENT
DTSTART;TZID=America/Denver:20261016T180000
DTEND;TZID=America/Denver:20261016T180000
DTSTAMP:20260419T162750
CREATED:20251222T012456Z
LAST-MODIFIED:20251222T012456Z
UID:10001812-1792173600-1792173600@www.highplainsraceway.com
SUMMARY:Paddock Closed Friday Night
DESCRIPTION:Gates will close at the conclusion of the day’s event.  No overnight use of the paddock/camping/RV/Carport areas will be allowed.
URL:https://www.highplainsraceway.com/event/paddock-closed-friday-night-7/
LOCATION:High Plains Raceway\, 93301 US-36\, Deer Trail\, CO\, 80105\, United States
CATEGORIES:Overnight No
END:VEVENT
BEGIN:VEVENT
DTSTART;TZID=America/Denver:20261017T180000
DTEND;TZID=America/Denver:20261017T180000
DTSTAMP:20260419T162750
CREATED:20251222T013058Z
LAST-MODIFIED:20251222T013058Z
UID:10001824-1792260000-1792260000@www.highplainsraceway.com
SUMMARY:Paddock Closed Saturday Night
DESCRIPTION:Gates will close at the conclusion of the day’s event.  No overnight use of the paddock/camping/RV/Carport areas will be allowed.
URL:https://www.highplainsraceway.com/event/paddock-closed-saturday-night-19/
LOCATION:High Plains Raceway\, 93301 US-36\, Deer Trail\, CO\, 80105\, United States
CATEGORIES:Overnight No
END:VEVENT
BEGIN:VEVENT
DTSTART;TZID=America/Denver:20261018T180000
DTEND;TZID=America/Denver:20261018T180000
DTSTAMP:20260419T162750
CREATED:20251222T015950Z
LAST-MODIFIED:20251222T015950Z
UID:10001877-1792346400-1792346400@www.highplainsraceway.com
SUMMARY:Paddock Closed Sunday Night
DESCRIPTION:Gates will close at the conclusion of the day’s event.  No overnight use of the paddock/camping/RV/Carport areas will be allowed.
URL:https://www.highplainsraceway.com/event/paddock-closed-sunday-night-54/
LOCATION:High Plains Raceway\, 93301 US-36\, Deer Trail\, CO\, 80105\, United States
CATEGORIES:Overnight No
END:VEVENT
BEGIN:VEVENT
DTSTART;TZID=America/Denver:20261022T180000
DTEND;TZID=America/Denver:20261022T180000
DTSTAMP:20260419T162750
CREATED:20251222T005655Z
LAST-MODIFIED:20251222T005655Z
UID:10001772-1792692000-1792692000@www.highplainsraceway.com
SUMMARY:Paddock Closed Thursday Night
DESCRIPTION:Gates will close at the conclusion of the day’s event.  No overnight use of the paddock/camping/RV/Carport areas will be allowed.
URL:https://www.highplainsraceway.com/event/paddock-closed-thursday-night-24/
LOCATION:High Plains Raceway\, 93301 US-36\, Deer Trail\, CO\, 80105\, United States
CATEGORIES:Overnight No
END:VEVENT
END:VCALENDAR